BEGIN:VCALENDAR
VERSION:2.0
PRODID:-//365 Apparel - ECPv6.13.1//NONSGML v1.0//EN
CALSCALE:GREGORIAN
METHOD:PUBLISH
X-ORIGINAL-URL:https://www.365apparel.shop
X-WR-CALDESC:Events for 365 Apparel
REFRESH-INTERVAL;VALUE=DURATION:PT1H
X-Robots-Tag:noindex
X-PUBLISHED-TTL:PT1H
BEGIN:VTIMEZONE
TZID:America/New_York
BEGIN:DAYLIGHT
TZOFFSETFROM:-0500
TZOFFSETTO:-0400
TZNAME:EDT
DTSTART:20200308T070000
END:DAYLIGHT
BEGIN:STANDARD
TZOFFSETFROM:-0400
TZOFFSETTO:-0500
TZNAME:EST
DTSTART:20201101T060000
END:STANDARD
END:VTIMEZONE
BEGIN:VEVENT
DTSTART;TZID=America/New_York:20201020T080000
DTEND;TZID=America/New_York:20201020T200000
DTSTAMP:20260420T162811
CREATED:20201020T012121Z
LAST-MODIFIED:20201020T012121Z
UID:394-1603180800-1603224000@www.365apparel.shop
SUMMARY:Swap Meet
DESCRIPTION:Various vendors and themes provide a unique shopping experience
URL:https://www.365apparel.shop/event/swap-meet/
LOCATION:The Swap\, 200 Beeson Rd\, Wilmington\, DE\, 19809\, United States
CATEGORIES:Swap Meet
ATTACH;FMTTYPE=image/jpeg:https://www.365apparel.shop/wp-content/uploads/2019/08/album_1_flat.jpg
ORGANIZER;CN="Ramel Tiggett":MAILTO:tiggettramel@gmail.com
END:VEVENT
END:VCALENDAR