BEGIN:VCALENDAR
VERSION:2.0
PRODID:-//365 Apparel - ECPv6.13.1//NONSGML v1.0//EN
CALSCALE:GREGORIAN
METHOD:PUBLISH
X-ORIGINAL-URL:https://www.365apparel.shop
X-WR-CALDESC:Events for 365 Apparel
REFRESH-INTERVAL;VALUE=DURATION:PT1H
X-Robots-Tag:noindex
X-PUBLISHED-TTL:PT1H
BEGIN:VTIMEZONE
TZID:America/New_York
BEGIN:DAYLIGHT
TZOFFSETFROM:-0500
TZOFFSETTO:-0400
TZNAME:EDT
DTSTART:20200308T070000
END:DAYLIGHT
BEGIN:STANDARD
TZOFFSETFROM:-0400
TZOFFSETTO:-0500
TZNAME:EST
DTSTART:20201101T060000
END:STANDARD
END:VTIMEZONE
BEGIN:VEVENT
DTSTART;TZID=America/New_York:20201113T110000
DTEND;TZID=America/New_York:20201115T230000
DTSTAMP:20260420T175019
CREATED:20201107T083823Z
LAST-MODIFIED:20201110T183742Z
UID:806-1605265200-1605481200@www.365apparel.shop
SUMMARY:Grandma's Kitchen
DESCRIPTION:GRANDMA’S KITCHEN MENU \n  \nChef: Yank aka Paula Marsett \nTheme: Soul Food \nCustomer Service: Pre-order and Pickup only \nHours Of Operation: 11AM – 11PM
URL:https://www.365apparel.shop/event/grandmas-kitchen/
LOCATION:365 APPAREL & REMOTE CONVENIENCE STORE\, Philadelphia\, PA\, 19141\, United States
CATEGORIES:Catering
ATTACH;FMTTYPE=image/png:https://www.365apparel.shop/wp-content/uploads/2020/11/GRANDMAS-KITCHEN-FLIER.png
END:VEVENT
END:VCALENDAR